BEGIN:VCALENDAR
VERSION:2.0
PRODID:-//demosphere.net//NONSGML kigkonsult.se iCalcreator 2.22.1//
METHOD:REQUEST
X-WR-TIMEZONE:Europe/Athens
BEGIN:VEVENT
UID:https://thessaloniki.kinimatorama.net/event/155439
DTSTAMP:20230924T120000Z
DESCRIPTION:περισσότερες πληροφορίες: https://thessaloniki.kinimatorama.net
 /event/155439 
DTSTART:20230924T120000Z
DTEND:20230924T130000Z
GEO:+37.994854;+23.740732
LOCATION:Αθήνα\, \nΠλατεία Πρωτομαγιάς \nΠεδίον του Άρεως
SUMMARY:Ρεμπέτικο γλέντι οικ. ενίσχυσης για υπόθεση κρατικής δολοφονίας Κ. 
 Μανιουδάκη
URL:https://thessaloniki.kinimatorama.net/event/155439
END:VEVENT
END:VCALENDAR
