BEGIN:VCALENDAR
VERSION:2.0
PRODID:-//demosphere.net//NONSGML kigkonsult.se iCalcreator 2.22.1//
METHOD:REQUEST
X-WR-TIMEZONE:Europe/Athens
BEGIN:VEVENT
UID:https://thessaloniki.kinimatorama.net/event/15549
DTSTAMP:20111212T170000Z
DESCRIPTION:περισσότερες πληροφορίες: https://thessaloniki.kinimatorama.net
 /event/15549 
DTSTART:20111212T170000Z
DTEND:20111212T180000Z
GEO:+37.959874;+23.719037
LOCATION:Καλλιθέα\, \nΠάντειο Πανεπιστήμιο \nΛ. Συγγρού 136
SUMMARY:Συζήτηση για  δίκη των λιμενικών και την ακροδεξιά τρομοκρατία
URL:https://thessaloniki.kinimatorama.net/event/15549
END:VEVENT
END:VCALENDAR
