BEGIN:VCALENDAR
VERSION:2.0
PRODID:-//demosphere.net//NONSGML kigkonsult.se iCalcreator 2.22.1//
METHOD:REQUEST
X-WR-TIMEZONE:Europe/Athens
BEGIN:VEVENT
UID:https://thessaloniki.kinimatorama.net/event/155617
DTSTAMP:20230925T160000Z
DESCRIPTION:περισσότερες πληροφορίες: https://thessaloniki.kinimatorama.net
 /event/155617 
DTSTART:20230925T160000Z
DTEND:20230925T170000Z
GEO:+40.633903;+22.95648
LOCATION:Θεσσαλονίκη\, \nΣχολή Θετικών Επιστημών (ΣΘΕ) ΑΠΘ
SUMMARY:Απολογιστική ανοιχτής συνέλευσης για τα 10 χρόνια απο την δολοφονία
  του Π.Φύσσα
URL:https://thessaloniki.kinimatorama.net/event/155617
END:VEVENT
END:VCALENDAR
