BEGIN:VCALENDAR
VERSION:2.0
PRODID:-//demosphere.net//NONSGML kigkonsult.se iCalcreator 2.22.1//
METHOD:REQUEST
X-WR-TIMEZONE:Europe/Athens
BEGIN:VEVENT
UID:https://thessaloniki.kinimatorama.net/event/155628
DTSTAMP:20231001T110000Z
DESCRIPTION:περισσότερες πληροφορίες: https://thessaloniki.kinimatorama.net
 /event/155628 
DTSTART:20231001T110000Z
DTEND:20231001T120000Z
GEO:+37.994854;+23.740732
LOCATION:Αθήνα\, \nΠλατεία Πρωτομαγιάς \nΠεδίον του Άρεως
SUMMARY:Ρεμπέτικο γλέντι οικονομικής ενίσχυσης εφημερίδας δρόμου Άπατρις
URL:https://thessaloniki.kinimatorama.net/event/155628
END:VEVENT
END:VCALENDAR
