BEGIN:VCALENDAR
VERSION:2.0
PRODID:-//demosphere.net//NONSGML kigkonsult.se iCalcreator 2.22.1//
METHOD:REQUEST
X-WR-TIMEZONE:Europe/Athens
BEGIN:VEVENT
UID:https://thessaloniki.kinimatorama.net/event/155875
DTSTAMP:20230930T090000Z
DESCRIPTION:περισσότερες πληροφορίες: https://thessaloniki.kinimatorama.net
 /event/155875 
DTSTART:20230930T090000Z
DTEND:20230930T100000Z
GEO:+37.977748;+23.78374
LOCATION:Ζωγράφου\, \nκεντρική πλατεία Πολυτεχνειούπολης ΕΜΠ \n[λεωφορεία 6
 08\, 230 (8Η Ζωγράφου και 10' περπάτημα) και 242 (στάση Θυρωρείο) από μετρ
 ό Κατεχάκη]
SUMMARY:Εκ νεου εκκενωση Αυτοδιαχειριζομενου Στεκιου Πολυτεχνειου
URL:https://thessaloniki.kinimatorama.net/event/155875
END:VEVENT
END:VCALENDAR
