BEGIN:VCALENDAR
VERSION:2.0
PRODID:-//demosphere.net//NONSGML kigkonsult.se iCalcreator 2.22.1//
METHOD:REQUEST
X-WR-TIMEZONE:Europe/Athens
BEGIN:VEVENT
UID:https://thessaloniki.kinimatorama.net/event/155994
DTSTAMP:20231008T100000Z
DESCRIPTION:περισσότερες πληροφορίες: https://thessaloniki.kinimatorama.net
 /event/155994 
DTSTART:20231008T100000Z
DTEND:20231008T110000Z
GEO:+40.638397;+22.946565
LOCATION:Θεσσαλονίκη\, \nΠάρκο Εργατικού Κέντρου Θεσσαλονίκης \nΑριστοτέλου
 ς με Ολύμπου
SUMMARY:Ανοιχτή συνέλευση της Ελευθεριακής Συνέλευσης για την Ταξική Οργάνω
 ση στη Βάση
URL:https://thessaloniki.kinimatorama.net/event/155994
END:VEVENT
END:VCALENDAR
