BEGIN:VCALENDAR
VERSION:2.0
PRODID:-//demosphere.net//NONSGML kigkonsult.se iCalcreator 2.22.1//
METHOD:REQUEST
X-WR-TIMEZONE:Europe/Athens
BEGIN:VEVENT
UID:https://thessaloniki.kinimatorama.net/event/156088
DTSTAMP:20231010T160000Z
DESCRIPTION:περισσότερες πληροφορίες: https://thessaloniki.kinimatorama.net
 /event/156088 
DTSTART:20231010T160000Z
DTEND:20231010T170000Z
GEO:+40.633903;+22.95648
LOCATION:Θεσσαλονίκη\, \nΣχολή Θετικών Επιστημών (ΣΘΕ) ΑΠΘ
SUMMARY:Συνέλευση Ταμείου αλληλεγγύης φυλακισμένων και διωκόμενων αγωνιστ(ρ
 ι)ών
URL:https://thessaloniki.kinimatorama.net/event/156088
END:VEVENT
END:VCALENDAR
