BEGIN:VCALENDAR
VERSION:2.0
PRODID:-//demosphere.net//NONSGML kigkonsult.se iCalcreator 2.22.1//
METHOD:REQUEST
X-WR-TIMEZONE:Europe/Athens
BEGIN:VEVENT
UID:https://thessaloniki.kinimatorama.net/event/156142
DTSTAMP:20231102T190000Z
DESCRIPTION:περισσότερες πληροφορίες: https://thessaloniki.kinimatorama.net
 /event/156142 
DTSTART:20231102T190000Z
DTEND:20231102T200000Z
GEO:+40.633903;+22.95648
LOCATION:Θεσσαλονίκη\, \nΣχολή Θετικών Επιστημών (ΣΘΕ) ΑΠΘ
SUMMARY:Ανοιχτές Πρόβες Θεατρικής ομάδας ΜωβΑμόκ
URL:https://thessaloniki.kinimatorama.net/event/156142
END:VEVENT
END:VCALENDAR
