BEGIN:VCALENDAR
VERSION:2.0
PRODID:-//demosphere.net//NONSGML kigkonsult.se iCalcreator 2.22.1//
METHOD:REQUEST
X-WR-TIMEZONE:Europe/Athens
BEGIN:VEVENT
UID:https://thessaloniki.kinimatorama.net/event/156386
DTSTAMP:20231013T120000Z
DESCRIPTION:περισσότερες πληροφορίες: https://thessaloniki.kinimatorama.net
 /event/156386 
DTSTART:20231013T120000Z
DTEND:20231013T130000Z
GEO:+37.969017;+23.780422
LOCATION:Ζωγράφου\, \nΑναρχικό Στέκι Φιλοσοφικής \nαίθουσα 819\, 8ος όροφος
  \nΠανεπιστημιούπολη Ζωγράφου
SUMMARY:Πολιτικό άνοιγμα – καφενείο και λειτουργία του βιβλιοπωλείου “Μαυρο
 κόκκινο Νήμα”
URL:https://thessaloniki.kinimatorama.net/event/156386
END:VEVENT
END:VCALENDAR
