BEGIN:VCALENDAR
VERSION:2.0
PRODID:-//demosphere.net//NONSGML kigkonsult.se iCalcreator 2.22.1//
METHOD:REQUEST
X-WR-TIMEZONE:Europe/Athens
BEGIN:VEVENT
UID:https://thessaloniki.kinimatorama.net/event/156408
DTSTAMP:20231017T180100Z
DESCRIPTION:περισσότερες πληροφορίες: https://thessaloniki.kinimatorama.net
 /event/156408 
DTSTART:20231017T180100Z
DTEND:20231017T190100Z
GEO:+40.633903;+22.95648
LOCATION:Θεσσαλονίκη\, \nΣχολή Θετικών Επιστημών (ΣΘΕ) ΑΠΘ
SUMMARY:C.U.M & CineDroga προβάλλουν: Captain Fantastic (2016) + ΑΦΤΕΡ ΜΠΑΡ
URL:https://thessaloniki.kinimatorama.net/event/156408
END:VEVENT
END:VCALENDAR
