BEGIN:VCALENDAR
VERSION:2.0
PRODID:-//demosphere.net//NONSGML kigkonsult.se iCalcreator 2.22.1//
METHOD:REQUEST
X-WR-TIMEZONE:Europe/Athens
BEGIN:VEVENT
UID:https://thessaloniki.kinimatorama.net/event/156475
DTSTAMP:20231016T150000Z
DESCRIPTION:περισσότερες πληροφορίες: https://thessaloniki.kinimatorama.net
 /event/156475 
DTSTART:20231016T150000Z
DTEND:20231016T160000Z
GEO:+37.969017;+23.780422
LOCATION:Ζωγράφου\, \nΑναρχικό Στέκι Φιλοσοφικής \nαίθουσα 819\, 8ος όροφος
  \nΠανεπιστημιούπολη Ζωγράφου
SUMMARY:Εκδήλωση-βιβλιοπαρουσίαση: Απόπειρες αναρχικής οργάνωσης στη δεκαετ
 ία του '80
URL:https://thessaloniki.kinimatorama.net/event/156475
END:VEVENT
END:VCALENDAR
