BEGIN:VCALENDAR
VERSION:2.0
PRODID:-//demosphere.net//NONSGML kigkonsult.se iCalcreator 2.22.1//
METHOD:REQUEST
X-WR-TIMEZONE:Europe/Athens
BEGIN:VEVENT
UID:https://thessaloniki.kinimatorama.net/event/157089
DTSTAMP:20231029T140000Z
DESCRIPTION:περισσότερες πληροφορίες: https://thessaloniki.kinimatorama.net
 /event/157089 
DTSTART:20231029T140000Z
DTEND:20231029T150000Z
GEO:+40.633903;+22.95648
LOCATION:Θεσσαλονίκη\, \nΣχολή Θετικών Επιστημών (ΣΘΕ) ΑΠΘ
SUMMARY:[Θεσσαλονίκη] Συνέλευση για τη δολοφονική επίθεση στη 16χρονη στο Ν
 .Ηράκλειο
URL:https://thessaloniki.kinimatorama.net/event/157089
END:VEVENT
END:VCALENDAR
