BEGIN:VCALENDAR
VERSION:2.0
PRODID:-//demosphere.net//NONSGML kigkonsult.se iCalcreator 2.22.1//
METHOD:REQUEST
X-WR-TIMEZONE:Europe/Athens
BEGIN:VEVENT
UID:https://thessaloniki.kinimatorama.net/event/157181
DTSTAMP:20231031T090000Z
DESCRIPTION:περισσότερες πληροφορίες: https://thessaloniki.kinimatorama.net
 /event/157181 
DTSTART:20231031T090000Z
DTEND:20231031T100000Z
GEO:+37.995376;+23.743086
LOCATION:Αθήνα\, \nΔικαστήρια Ευελπίδων
SUMMARY:Συγκέντρωση αλληλεγγύης στους/ις συλληφθέντες/ίσες μετά την πορεία 
 για τη Β.
URL:https://thessaloniki.kinimatorama.net/event/157181
END:VEVENT
END:VCALENDAR
