BEGIN:VCALENDAR
VERSION:2.0
PRODID:-//demosphere.net//NONSGML kigkonsult.se iCalcreator 2.22.1//
METHOD:REQUEST
X-WR-TIMEZONE:Europe/Athens
BEGIN:VEVENT
UID:https://thessaloniki.kinimatorama.net/event/157315
DTSTAMP:20231102T151500Z
DESCRIPTION:περισσότερες πληροφορίες: https://thessaloniki.kinimatorama.net
 /event/157315 
DTSTART:20231102T151500Z
DTEND:20231102T161500Z
GEO:+40.633903;+22.95648
LOCATION:Θεσσαλονίκη\, \nΣχολή Θετικών Επιστημών (ΣΘΕ) ΑΠΘ
SUMMARY:Συγκέντρωση υπράσπισης του ασύλου του ΑΠΘ
URL:https://thessaloniki.kinimatorama.net/event/157315
END:VEVENT
END:VCALENDAR
