BEGIN:VCALENDAR
VERSION:2.0
PRODID:-//demosphere.net//NONSGML kigkonsult.se iCalcreator 2.22.1//
METHOD:REQUEST
X-WR-TIMEZONE:Europe/Athens
BEGIN:VEVENT
UID:https://thessaloniki.kinimatorama.net/event/15770
DTSTAMP:20120112T070000Z
DESCRIPTION:περισσότερες πληροφορίες: https://thessaloniki.kinimatorama.net
 /event/15770 
DTSTART:20120112T070000Z
DTEND:20120112T080000Z
GEO:+37.995376;+23.743086
LOCATION:Αθήνα\, \nΔικαστήρια Ευελπίδων
SUMMARY:(Αναβολή)Aντιφασιστική συγκέντρωση στο Δικαστήριο για τους μαχαιροβ
 γάλτες
URL:https://thessaloniki.kinimatorama.net/event/15770
END:VEVENT
END:VCALENDAR
