BEGIN:VCALENDAR
VERSION:2.0
PRODID:-//demosphere.net//NONSGML kigkonsult.se iCalcreator 2.22.1//
METHOD:REQUEST
X-WR-TIMEZONE:Europe/Athens
BEGIN:VEVENT
UID:https://thessaloniki.kinimatorama.net/event/157807
DTSTAMP:20231114T070000Z
DESCRIPTION:περισσότερες πληροφορίες: https://thessaloniki.kinimatorama.net
 /event/157807 
DTSTART:20231114T070000Z
DTEND:20231114T080000Z
GEO:+37.995376;+23.743086
LOCATION:Αθήνα\, \nΔικαστήρια Ευελπίδων
SUMMARY:Κάλεσμα στη δίκη για την υπόθεση 'Ακρόπολη'
URL:https://thessaloniki.kinimatorama.net/event/157807
END:VEVENT
END:VCALENDAR
