BEGIN:VCALENDAR
VERSION:2.0
PRODID:-//demosphere.net//NONSGML kigkonsult.se iCalcreator 2.22.1//
METHOD:REQUEST
X-WR-TIMEZONE:Europe/Athens
BEGIN:VEVENT
UID:https://thessaloniki.kinimatorama.net/event/157929
DTSTAMP:20231116T130000Z
DESCRIPTION:περισσότερες πληροφορίες: https://thessaloniki.kinimatorama.net
 /event/157929 
DTSTART:20231116T130000Z
DTEND:20231116T140000Z
GEO:+40.633903;+22.95648
LOCATION:Θεσσαλονίκη\, \nΣχολή Θετικών Επιστημών (ΣΘΕ) ΑΠΘ
SUMMARY:Ανοιχτή συνέλευση για την κρατική δολοφονία του 17χρονου Ρομ Χ. Μιχ
 αλόπουλου
URL:https://thessaloniki.kinimatorama.net/event/157929
END:VEVENT
END:VCALENDAR
