BEGIN:VCALENDAR
VERSION:2.0
PRODID:-//demosphere.net//NONSGML kigkonsult.se iCalcreator 2.22.1//
METHOD:REQUEST
X-WR-TIMEZONE:Europe/Athens
BEGIN:VEVENT
UID:https://thessaloniki.kinimatorama.net/event/158091
DTSTAMP:20231118T150000Z
DESCRIPTION:περισσότερες πληροφορίες: https://thessaloniki.kinimatorama.net
 /event/158091 
DTSTART:20231118T150000Z
DTEND:20231118T160000Z
GEO:+37.988214;+23.738987
LOCATION:Αθήνα\, \nΛόφος Στρέφη \nΕξάρχεια
SUMMARY:Ανοιχτή Συνέλευση για την υπεράσπιση του Λόφου Στρέφη
URL:https://thessaloniki.kinimatorama.net/event/158091
END:VEVENT
END:VCALENDAR
