BEGIN:VCALENDAR
VERSION:2.0
PRODID:-//demosphere.net//NONSGML kigkonsult.se iCalcreator 2.22.1//
METHOD:REQUEST
X-WR-TIMEZONE:Europe/Athens
BEGIN:VEVENT
UID:https://thessaloniki.kinimatorama.net/event/158218
DTSTAMP:20231122T080000Z
DESCRIPTION:περισσότερες πληροφορίες: https://thessaloniki.kinimatorama.net
 /event/158218 
DTSTART:20231122T080000Z
DTEND:20231122T090000Z
GEO:+40.633903;+22.95648
LOCATION:Θεσσαλονίκη\, \nΣχολή Θετικών Επιστημών (ΣΘΕ) ΑΠΘ
SUMMARY:Μικροφωνική συγκέντρωση εν όψει 25ης Νοέμβρη
URL:https://thessaloniki.kinimatorama.net/event/158218
END:VEVENT
END:VCALENDAR
