BEGIN:VCALENDAR
VERSION:2.0
PRODID:-//demosphere.net//NONSGML kigkonsult.se iCalcreator 2.22.1//
METHOD:REQUEST
X-WR-TIMEZONE:Europe/Athens
BEGIN:VEVENT
UID:https://thessaloniki.kinimatorama.net/event/158598
DTSTAMP:20231208T200000Z
DESCRIPTION:περισσότερες πληροφορίες: https://thessaloniki.kinimatorama.net
 /event/158598 
DTSTART:20231208T200000Z
DTEND:20231208T210000Z
GEO:+40.633903;+22.95648
LOCATION:Θεσσαλονίκη\, \nΣχολή Θετικών Επιστημών (ΣΘΕ) ΑΠΘ
SUMMARY:Bar οικονομικής ενίσχυσης ΑΡ.ΣΥ.Π.
URL:https://thessaloniki.kinimatorama.net/event/158598
END:VEVENT
END:VCALENDAR
