BEGIN:VCALENDAR
VERSION:2.0
PRODID:-//demosphere.net//NONSGML kigkonsult.se iCalcreator 2.22.1//
METHOD:REQUEST
X-WR-TIMEZONE:Europe/Athens
BEGIN:VEVENT
UID:https://thessaloniki.kinimatorama.net/event/159113
DTSTAMP:20231209T193000Z
DESCRIPTION:περισσότερες πληροφορίες: https://thessaloniki.kinimatorama.net
 /event/159113 
DTSTART:20231209T193000Z
DTEND:20231209T203000Z
GEO:+40.633903;+22.95648
LOCATION:Θεσσαλονίκη\, \nΣχολή Θετικών Επιστημών (ΣΘΕ) ΑΠΘ
SUMMARY:Κάλεσμα στήριξης στην αποκλεισμένη ΣΘΕ
URL:https://thessaloniki.kinimatorama.net/event/159113
END:VEVENT
END:VCALENDAR
