BEGIN:VCALENDAR
VERSION:2.0
PRODID:-//demosphere.net//NONSGML kigkonsult.se iCalcreator 2.22.1//
METHOD:REQUEST
X-WR-TIMEZONE:Europe/Athens
BEGIN:VEVENT
UID:https://thessaloniki.kinimatorama.net/event/159146
DTSTAMP:20231211T100000Z
DESCRIPTION:περισσότερες πληροφορίες: https://thessaloniki.kinimatorama.net
 /event/159146 
DTSTART:20231211T100000Z
DTEND:20231211T110000Z
GEO:+37.995376;+23.743086
LOCATION:Αθήνα\, \nΔικαστήρια Ευελπίδων
SUMMARY:Καλεσμα αλληλεγγυης στα δικαστηρια για τα συλληφθεντα απο 9/12
URL:https://thessaloniki.kinimatorama.net/event/159146
END:VEVENT
END:VCALENDAR
