BEGIN:VCALENDAR
VERSION:2.0
PRODID:-//demosphere.net//NONSGML kigkonsult.se iCalcreator 2.22.1//
METHOD:REQUEST
X-WR-TIMEZONE:Europe/Athens
BEGIN:VEVENT
UID:https://thessaloniki.kinimatorama.net/event/159281
DTSTAMP:20231216T170000Z
DESCRIPTION:περισσότερες πληροφορίες: https://thessaloniki.kinimatorama.net
 /event/159281 
DTSTART:20231216T170000Z
DTEND:20231216T180000Z
GEO:+35.341459;+25.132416
LOCATION:Ηράκλειο\, \nΚατάληψη Ευαγγελισμού \nΘεοτοκοπούλου 18
SUMMARY:Παρουσίαση Μπροσούρας: Για το σαμποτάζ του πολέμου & την ολική άρνη
 ση στράτευσης
URL:https://thessaloniki.kinimatorama.net/event/159281
END:VEVENT
END:VCALENDAR
