BEGIN:VCALENDAR
VERSION:2.0
PRODID:-//demosphere.net//NONSGML kigkonsult.se iCalcreator 2.22.1//
METHOD:REQUEST
X-WR-TIMEZONE:Europe/Athens
BEGIN:VEVENT
UID:https://thessaloniki.kinimatorama.net/event/159410
DTSTAMP:20231220T192100Z
DESCRIPTION:περισσότερες πληροφορίες: https://thessaloniki.kinimatorama.net
 /event/159410 
DTSTART:20231220T192100Z
DTEND:20231220T202100Z
GEO:+40.633903;+22.95648
LOCATION:Θεσσαλονίκη\, \nΣχολή Θετικών Επιστημών (ΣΘΕ) ΑΠΘ
SUMMARY:Προβολή της ταινίας 'Rise of the Guardians' (2012) + μπαρ
URL:https://thessaloniki.kinimatorama.net/event/159410
END:VEVENT
END:VCALENDAR
