BEGIN:VCALENDAR
VERSION:2.0
PRODID:-//demosphere.net//NONSGML kigkonsult.se iCalcreator 2.22.1//
METHOD:REQUEST
X-WR-TIMEZONE:Europe/Athens
BEGIN:VEVENT
UID:https://thessaloniki.kinimatorama.net/event/159577
DTSTAMP:20231228T083000Z
DESCRIPTION:περισσότερες πληροφορίες: https://thessaloniki.kinimatorama.net
 /event/159577 
DTSTART:20231228T083000Z
DTEND:20231228T093000Z
GEO:+38.00095;+23.737762
LOCATION:Αθήνα\, \nΔημοτική Αγορά Κυψέλης \nΦωκίωνος Νέγρη 42
SUMMARY:Αντιφασιστική συγκέντρωση στην ορκωμοσία του νέου δημοτικού συμβουλ
 ίου της Αθήνας
URL:https://thessaloniki.kinimatorama.net/event/159577
END:VEVENT
END:VCALENDAR
