BEGIN:VCALENDAR
VERSION:2.0
PRODID:-//demosphere.net//NONSGML kigkonsult.se iCalcreator 2.22.1//
METHOD:REQUEST
X-WR-TIMEZONE:Europe/Athens
BEGIN:VEVENT
UID:https://thessaloniki.kinimatorama.net/event/159758
DTSTAMP:20240106T100000Z
DESCRIPTION:περισσότερες πληροφορίες: https://thessaloniki.kinimatorama.net
 /event/159758 
DTSTART:20240106T100000Z
DTEND:20240106T110000Z
GEO:+38.00095;+23.737762
LOCATION:Αθήνα\, \nΔημοτική Αγορά Κυψέλης \nΦωκίωνος Νέγρη 42
SUMMARY:Συγκέντρωση μικροφωνική ενάντια στον πόλεμο κ την ειρήνη των κυρίαρ
 χων
URL:https://thessaloniki.kinimatorama.net/event/159758
END:VEVENT
END:VCALENDAR
