BEGIN:VCALENDAR
VERSION:2.0
PRODID:-//demosphere.net//NONSGML kigkonsult.se iCalcreator 2.22.1//
METHOD:REQUEST
X-WR-TIMEZONE:Europe/Athens
BEGIN:VEVENT
UID:https://thessaloniki.kinimatorama.net/event/159783
DTSTAMP:20240113T120000Z
DESCRIPTION:περισσότερες πληροφορίες: https://thessaloniki.kinimatorama.net
 /event/159783 
DTSTART:20240113T120000Z
DTEND:20240113T130000Z
GEO:+37.9895;+23.737333
LOCATION:Αθήνα\, \nΕκλάμψεις \nχώρος βιβλίου στα Εξάρχεια \nΙουστινιανού 13
SUMMARY:Δανειστική βιβλιοθήκη-Αναγνωστήριο-Μπαρ
URL:https://thessaloniki.kinimatorama.net/event/159783
END:VEVENT
END:VCALENDAR
