BEGIN:VCALENDAR
VERSION:2.0
PRODID:-//demosphere.net//NONSGML kigkonsult.se iCalcreator 2.22.1//
METHOD:REQUEST
X-WR-TIMEZONE:Europe/Athens
BEGIN:VEVENT
UID:https://thessaloniki.kinimatorama.net/event/160695
DTSTAMP:20240126T100000Z
DESCRIPTION:περισσότερες πληροφορίες: https://thessaloniki.kinimatorama.net
 /event/160695 
DTSTART:20240126T100000Z
DTEND:20240126T110000Z
GEO:+40.633903;+22.95648
LOCATION:Θεσσαλονίκη\, \nΣχολή Θετικών Επιστημών (ΣΘΕ) ΑΠΘ
SUMMARY:Συντονιστική επιτροπή φοιτητ(ρι)ών γεωλογίας
URL:https://thessaloniki.kinimatorama.net/event/160695
END:VEVENT
END:VCALENDAR
