BEGIN:VCALENDAR
VERSION:2.0
PRODID:-//demosphere.net//NONSGML kigkonsult.se iCalcreator 2.22.1//
METHOD:REQUEST
X-WR-TIMEZONE:Europe/Athens
BEGIN:VEVENT
UID:https://thessaloniki.kinimatorama.net/event/160696
DTSTAMP:20240127T100000Z
DESCRIPTION:περισσότερες πληροφορίες: https://thessaloniki.kinimatorama.net
 /event/160696 
DTSTART:20240127T100000Z
DTEND:20240127T110000Z
GEO:+40.633903;+22.95648
LOCATION:Θεσσαλονίκη\, \nΣχολή Θετικών Επιστημών (ΣΘΕ) ΑΠΘ
SUMMARY:Συντονιστική επιτροπή κατάληψης φοιτητ(ρι)ών γεωλογίας
URL:https://thessaloniki.kinimatorama.net/event/160696
END:VEVENT
END:VCALENDAR
