BEGIN:VCALENDAR
VERSION:2.0
PRODID:-//demosphere.net//NONSGML kigkonsult.se iCalcreator 2.22.1//
METHOD:REQUEST
X-WR-TIMEZONE:Europe/Athens
BEGIN:VEVENT
UID:https://thessaloniki.kinimatorama.net/event/160803
DTSTAMP:20240127T180000Z
DESCRIPTION:περισσότερες πληροφορίες: https://thessaloniki.kinimatorama.net
 /event/160803 
DTSTART:20240127T180000Z
DTEND:20240127T190000Z
GEO:+40.633903;+22.95648
LOCATION:Θεσσαλονίκη\, \nΣχολή Θετικών Επιστημών (ΣΘΕ) ΑΠΘ
SUMMARY:Στήριξη κατάληψης Φ.Σ. Φαρμακευτικής (προβολή ταινίας)
URL:https://thessaloniki.kinimatorama.net/event/160803
END:VEVENT
END:VCALENDAR
