BEGIN:VCALENDAR
VERSION:2.0
PRODID:-//demosphere.net//NONSGML kigkonsult.se iCalcreator 2.22.1//
METHOD:REQUEST
X-WR-TIMEZONE:Europe/Athens
BEGIN:VEVENT
UID:https://thessaloniki.kinimatorama.net/event/160804
DTSTAMP:20240128T190000Z
DESCRIPTION:περισσότερες πληροφορίες: https://thessaloniki.kinimatorama.net
 /event/160804 
DTSTART:20240128T190000Z
DTEND:20240128T200000Z
GEO:+40.633903;+22.95648
LOCATION:Θεσσαλονίκη\, \nΣχολή Θετικών Επιστημών (ΣΘΕ) ΑΠΘ
SUMMARY:Στήριξη κατάληψης Φ.Σ. Φαρμακευτικής (μάθημα Flamenco+ BAR*)
URL:https://thessaloniki.kinimatorama.net/event/160804
END:VEVENT
END:VCALENDAR
