BEGIN:VCALENDAR
VERSION:2.0
PRODID:-//demosphere.net//NONSGML kigkonsult.se iCalcreator 2.22.1//
METHOD:REQUEST
X-WR-TIMEZONE:Europe/Athens
BEGIN:VEVENT
UID:https://thessaloniki.kinimatorama.net/event/160994
DTSTAMP:20240130T060000Z
DESCRIPTION:περισσότερες πληροφορίες: https://thessaloniki.kinimatorama.net
 /event/160994 
DTSTART:20240130T060000Z
DTEND:20240130T070000Z
GEO:+40.633903;+22.95648
LOCATION:Θεσσαλονίκη\, \nΣχολή Θετικών Επιστημών (ΣΘΕ) ΑΠΘ
SUMMARY:Πρόγραμμα κατάληψης ΣΦ Γεωλογικού
URL:https://thessaloniki.kinimatorama.net/event/160994
END:VEVENT
END:VCALENDAR
