BEGIN:VCALENDAR
VERSION:2.0
PRODID:-//demosphere.net//NONSGML kigkonsult.se iCalcreator 2.22.1//
METHOD:REQUEST
X-WR-TIMEZONE:Europe/Athens
BEGIN:VEVENT
UID:https://thessaloniki.kinimatorama.net/event/160997
DTSTAMP:20240201T050000Z
DESCRIPTION:περισσότερες πληροφορίες: https://thessaloniki.kinimatorama.net
 /event/160997 
DTSTART:20240201T050000Z
DTEND:20240201T060000Z
GEO:+40.633903;+22.95648
LOCATION:Θεσσαλονίκη\, \nΣχολή Θετικών Επιστημών (ΣΘΕ) ΑΠΘ
SUMMARY:Στήριξη της Κατάληψης Σ.Φ. Γεωλογικού
URL:https://thessaloniki.kinimatorama.net/event/160997
END:VEVENT
END:VCALENDAR
