BEGIN:VCALENDAR
VERSION:2.0
PRODID:-//demosphere.net//NONSGML kigkonsult.se iCalcreator 2.22.1//
METHOD:REQUEST
X-WR-TIMEZONE:Europe/Athens
BEGIN:VEVENT
UID:https://thessaloniki.kinimatorama.net/event/161056
DTSTAMP:20240205T170000Z
DESCRIPTION:περισσότερες πληροφορίες: https://thessaloniki.kinimatorama.net
 /event/161056 
DTSTART:20240205T170000Z
DTEND:20240205T180000Z
GEO:+40.633903;+22.95648
LOCATION:Θεσσαλονίκη\, \nΣχολή Θετικών Επιστημών (ΣΘΕ) ΑΠΘ
SUMMARY:[ΑΝΑΒΑΛΛΕΤΑΙ ]Ανοιχτή συνέλευση ενάντια στο νέο ποινικό κώδικα
URL:https://thessaloniki.kinimatorama.net/event/161056
END:VEVENT
END:VCALENDAR
