BEGIN:VCALENDAR
VERSION:2.0
PRODID:-//demosphere.net//NONSGML kigkonsult.se iCalcreator 2.22.1//
METHOD:REQUEST
X-WR-TIMEZONE:Europe/Athens
BEGIN:VEVENT
UID:https://thessaloniki.kinimatorama.net/event/161358
DTSTAMP:20240205T180000Z
DESCRIPTION:περισσότερες πληροφορίες: https://thessaloniki.kinimatorama.net
 /event/161358 
DTSTART:20240205T180000Z
DTEND:20240205T190000Z
GEO:+40.633903;+22.95648
LOCATION:Θεσσαλονίκη\, \nΣχολή Θετικών Επιστημών (ΣΘΕ) ΑΠΘ
SUMMARY:(ΑΝΑΒΑΛΛΕΤΑΙ) Προβολή ντοκιμαντέρ: Ο αιώνας του εαυτού
URL:https://thessaloniki.kinimatorama.net/event/161358
END:VEVENT
END:VCALENDAR
