BEGIN:VCALENDAR
VERSION:2.0
PRODID:-//demosphere.net//NONSGML kigkonsult.se iCalcreator 2.22.1//
METHOD:REQUEST
X-WR-TIMEZONE:Europe/Athens
BEGIN:VEVENT
UID:https://thessaloniki.kinimatorama.net/event/161414
DTSTAMP:20240206T150000Z
DESCRIPTION:περισσότερες πληροφορίες: https://thessaloniki.kinimatorama.net
 /event/161414 
DTSTART:20240206T150000Z
DTEND:20240206T160000Z
GEO:+40.633903;+22.95648
LOCATION:Θεσσαλονίκη\, \nΣχολή Θετικών Επιστημών (ΣΘΕ) ΑΠΘ
SUMMARY:Αντιμάθημα: 'Τροφικές συνήθειες: μια απειλή για τη βιοποικιλότητα κ
 αι τη ζωή μας'
URL:https://thessaloniki.kinimatorama.net/event/161414
END:VEVENT
END:VCALENDAR
