BEGIN:VCALENDAR
VERSION:2.0
PRODID:-//demosphere.net//NONSGML kigkonsult.se iCalcreator 2.22.1//
METHOD:REQUEST
X-WR-TIMEZONE:Europe/Athens
BEGIN:VEVENT
UID:https://thessaloniki.kinimatorama.net/event/16180
DTSTAMP:20120111T103000Z
DESCRIPTION:περισσότερες πληροφορίες: https://thessaloniki.kinimatorama.net
 /event/16180 
DTSTART:20120111T103000Z
DTEND:20120111T113000Z
GEO:+37.995376;+23.743086
LOCATION:Αθήνα\, \nΔικαστήρια Ευελπίδων
SUMMARY:Συγκέντρωση αλληλεγγύης σε συλληφθέντες για παρέμβαση στον ρ/σ Flas
 h
URL:https://thessaloniki.kinimatorama.net/event/16180
END:VEVENT
END:VCALENDAR
