BEGIN:VCALENDAR
VERSION:2.0
PRODID:-//demosphere.net//NONSGML kigkonsult.se iCalcreator 2.22.1//
METHOD:REQUEST
X-WR-TIMEZONE:Europe/Athens
BEGIN:VEVENT
UID:https://thessaloniki.kinimatorama.net/event/161806
DTSTAMP:20240213T070000Z
DESCRIPTION:περισσότερες πληροφορίες: https://thessaloniki.kinimatorama.net
 /event/161806 
DTSTART:20240213T070000Z
DTEND:20240213T080000Z
GEO:+37.995376;+23.743086
LOCATION:Αθήνα\, \nΔικαστήρια Ευελπίδων
SUMMARY:Συγκέντρωση αλληλεγγύης με τον Δ. Χατζηβασιλειάδη για δίωξη εκκινού
 μενη από...
URL:https://thessaloniki.kinimatorama.net/event/161806
END:VEVENT
END:VCALENDAR
