BEGIN:VCALENDAR
VERSION:2.0
PRODID:-//demosphere.net//NONSGML kigkonsult.se iCalcreator 2.22.1//
METHOD:REQUEST
X-WR-TIMEZONE:Europe/Athens
BEGIN:VEVENT
UID:https://thessaloniki.kinimatorama.net/event/16184
DTSTAMP:20120130T013300Z
DESCRIPTION:περισσότερες πληροφορίες: https://thessaloniki.kinimatorama.net
 /event/16184 
DTSTART;VALUE=DATE:20120130
GEO:+37.995376;+23.743086
LOCATION:Αθήνα\, \nΔικαστήρια Ευελπίδων
SUMMARY:Aντιφασιστική συγκέντρωση για δίκη Αυτόνομων Εθνικιστών
URL:https://thessaloniki.kinimatorama.net/event/16184
END:VEVENT
END:VCALENDAR
