BEGIN:VCALENDAR
VERSION:2.0
PRODID:-//demosphere.net//NONSGML kigkonsult.se iCalcreator 2.22.1//
METHOD:REQUEST
X-WR-TIMEZONE:Europe/Athens
BEGIN:VEVENT
UID:https://thessaloniki.kinimatorama.net/event/161959
DTSTAMP:20240214T130000Z
DESCRIPTION:περισσότερες πληροφορίες: https://thessaloniki.kinimatorama.net
 /event/161959 
DTSTART:20240214T130000Z
DTEND:20240214T140000Z
GEO:+40.633903;+22.95648
LOCATION:Θεσσαλονίκη\, \nΣχολή Θετικών Επιστημών (ΣΘΕ) ΑΠΘ
SUMMARY:Συζήτηση γύρω από: νέο ν/σ\, τηλεμαθηματα\, τηλεεξεταστική
URL:https://thessaloniki.kinimatorama.net/event/161959
END:VEVENT
END:VCALENDAR
