BEGIN:VCALENDAR
VERSION:2.0
PRODID:-//demosphere.net//NONSGML kigkonsult.se iCalcreator 2.22.1//
METHOD:REQUEST
X-WR-TIMEZONE:Europe/Athens
BEGIN:VEVENT
UID:https://thessaloniki.kinimatorama.net/event/162075
DTSTAMP:20240215T200000Z
DESCRIPTION:περισσότερες πληροφορίες: https://thessaloniki.kinimatorama.net
 /event/162075 
DTSTART:20240215T200000Z
DTEND:20240215T210000Z
GEO:+40.633903;+22.95648
LOCATION:Θεσσαλονίκη\, \nΣχολή Θετικών Επιστημών (ΣΘΕ) ΑΠΘ
SUMMARY:(ΜΕΤΑ ΤΗΝ ΠΟΡΕΙΑ ) Ρεμπέτικο γλέντι για δικαστικά έξοδα
URL:https://thessaloniki.kinimatorama.net/event/162075
END:VEVENT
END:VCALENDAR
