BEGIN:VCALENDAR
VERSION:2.0
PRODID:-//demosphere.net//NONSGML kigkonsult.se iCalcreator 2.22.1//
METHOD:REQUEST
X-WR-TIMEZONE:Europe/Athens
BEGIN:VEVENT
UID:https://thessaloniki.kinimatorama.net/event/162078
DTSTAMP:20240221T110000Z
DESCRIPTION:περισσότερες πληροφορίες: https://thessaloniki.kinimatorama.net
 /event/162078 
DTSTART:20240221T110000Z
DTEND:20240221T120000Z
GEO:+40.633903;+22.95648
LOCATION:Θεσσαλονίκη\, \nΣχολή Θετικών Επιστημών (ΣΘΕ) ΑΠΘ
SUMMARY:Γαμος ομοφυλων ζευγαριων: τιποτε λιγοτερο απο την πληρη ισοτητα
URL:https://thessaloniki.kinimatorama.net/event/162078
END:VEVENT
END:VCALENDAR
