BEGIN:VCALENDAR
VERSION:2.0
PRODID:-//demosphere.net//NONSGML kigkonsult.se iCalcreator 2.22.1//
METHOD:REQUEST
X-WR-TIMEZONE:Europe/Athens
BEGIN:VEVENT
UID:https://thessaloniki.kinimatorama.net/event/162240
DTSTAMP:20240219T100000Z
DESCRIPTION:περισσότερες πληροφορίες: https://thessaloniki.kinimatorama.net
 /event/162240 
DTSTART:20240219T100000Z
DTEND:20240219T110000Z
GEO:+40.633903;+22.95648
LOCATION:Θεσσαλονίκη\, \nΣχολή Θετικών Επιστημών (ΣΘΕ) ΑΠΘ
SUMMARY:Συγγραφή Ανοιχτού Πλαισίου και Γενική Συνέλευση Σ.Φ. Φαρμακευτικής 
 (εξ αναβολής)
URL:https://thessaloniki.kinimatorama.net/event/162240
END:VEVENT
END:VCALENDAR
