BEGIN:VCALENDAR
VERSION:2.0
PRODID:-//demosphere.net//NONSGML kigkonsult.se iCalcreator 2.22.1//
METHOD:REQUEST
X-WR-TIMEZONE:Europe/Athens
BEGIN:VEVENT
UID:https://thessaloniki.kinimatorama.net/event/162549
DTSTAMP:20240301T163000Z
DESCRIPTION:περισσότερες πληροφορίες: https://thessaloniki.kinimatorama.net
 /event/162549 
DTSTART:20240301T163000Z
DTEND:20240301T173000Z
GEO:+38.00095;+23.737762
LOCATION:Αθήνα\, \nΔημοτική Αγορά Κυψέλης \nΦωκίωνος Νέγρη 42
SUMMARY:(αναβάλλεται) Μικροφωνική για την κρατική δολοφονία του Κ.Μανιουδάκ
 η
URL:https://thessaloniki.kinimatorama.net/event/162549
END:VEVENT
END:VCALENDAR
