BEGIN:VCALENDAR
VERSION:2.0
PRODID:-//demosphere.net//NONSGML kigkonsult.se iCalcreator 2.22.1//
METHOD:REQUEST
X-WR-TIMEZONE:Europe/Athens
BEGIN:VEVENT
UID:https://thessaloniki.kinimatorama.net/event/162742
DTSTAMP:20240226T110000Z
DESCRIPTION:περισσότερες πληροφορίες: https://thessaloniki.kinimatorama.net
 /event/162742 
DTSTART:20240226T110000Z
DTEND:20240226T120000Z
GEO:+40.633903;+22.95648
LOCATION:Θεσσαλονίκη\, \nΣχολή Θετικών Επιστημών (ΣΘΕ) ΑΠΘ
SUMMARY:Γενική συνέλευση φοιτητ(ρι)ών γεωλογίας
URL:https://thessaloniki.kinimatorama.net/event/162742
END:VEVENT
END:VCALENDAR
