BEGIN:VCALENDAR
VERSION:2.0
PRODID:-//demosphere.net//NONSGML kigkonsult.se iCalcreator 2.22.1//
METHOD:REQUEST
X-WR-TIMEZONE:Europe/Athens
BEGIN:VEVENT
UID:https://thessaloniki.kinimatorama.net/event/163134
DTSTAMP:20240304T173000Z
DESCRIPTION:περισσότερες πληροφορίες: https://thessaloniki.kinimatorama.net
 /event/163134 
DTSTART:20240304T173000Z
DTEND:20240304T183000Z
GEO:+40.633903;+22.95648
LOCATION:Θεσσαλονίκη\, \nΣχολή Θετικών Επιστημών (ΣΘΕ) ΑΠΘ
SUMMARY:Ανοιχτή αντικρατική-αντιπατριαρχική συνέλευση για την 8η Μάρτη
URL:https://thessaloniki.kinimatorama.net/event/163134
END:VEVENT
END:VCALENDAR
