BEGIN:VCALENDAR
VERSION:2.0
PRODID:-//demosphere.net//NONSGML kigkonsult.se iCalcreator 2.22.1//
METHOD:REQUEST
X-WR-TIMEZONE:Europe/Athens
BEGIN:VEVENT
UID:https://thessaloniki.kinimatorama.net/event/163224
DTSTAMP:20240321T170000Z
DESCRIPTION:περισσότερες πληροφορίες: https://thessaloniki.kinimatorama.net
 /event/163224 
DTSTART:20240321T170000Z
DTEND:20240321T180000Z
GEO:+37.970988;+23.714424
LOCATION:Αθήνα\, \nΚατάληψη ΠΙΚΠΑ \nΤιμοδήμου κ Αντωνιάδου \nΆνω Πετράλωνα 
 \n(στα Πέτρινα)
SUMMARY:Βιβλιοπαρουσίαση «Συνεντεύξεις με ριζοσπάστριες Παλαιστίνιες γυναίκ
 ες»
URL:https://thessaloniki.kinimatorama.net/event/163224
END:VEVENT
END:VCALENDAR
