BEGIN:VCALENDAR
VERSION:2.0
PRODID:-//demosphere.net//NONSGML kigkonsult.se iCalcreator 2.22.1//
METHOD:REQUEST
X-WR-TIMEZONE:Europe/Athens
BEGIN:VEVENT
UID:https://thessaloniki.kinimatorama.net/event/163330
DTSTAMP:20240307T160000Z
DESCRIPTION:περισσότερες πληροφορίες: https://thessaloniki.kinimatorama.net
 /event/163330 
DTSTART:20240307T160000Z
DTEND:20240307T170000Z
GEO:+40.633903;+22.95648
LOCATION:Θεσσαλονίκη\, \nΣχολή Θετικών Επιστημών (ΣΘΕ) ΑΠΘ
SUMMARY:Οι παραβιάσεις των ελευθεριών στο πανεπιστήμιο & ο νέος ποινικός κώ
 δικας
URL:https://thessaloniki.kinimatorama.net/event/163330
END:VEVENT
END:VCALENDAR
