BEGIN:VCALENDAR
VERSION:2.0
PRODID:-//demosphere.net//NONSGML kigkonsult.se iCalcreator 2.22.1//
METHOD:REQUEST
X-WR-TIMEZONE:Europe/Athens
BEGIN:VEVENT
UID:https://thessaloniki.kinimatorama.net/event/163448
DTSTAMP:20240310T113000Z
DESCRIPTION:περισσότερες πληροφορίες: https://thessaloniki.kinimatorama.net
 /event/163448 
DTSTART:20240310T113000Z
DTEND:20240310T123000Z
GEO:+38.00095;+23.737762
LOCATION:Αθήνα\, \nΔημοτική Αγορά Κυψέλης \nΦωκίωνος Νέγρη 42
SUMMARY:Μικροφωνική ενάντια στην κρατική δολοφονία του Κ.Μανιουδάκη
URL:https://thessaloniki.kinimatorama.net/event/163448
END:VEVENT
END:VCALENDAR
