BEGIN:VCALENDAR
VERSION:2.0
PRODID:-//demosphere.net//NONSGML kigkonsult.se iCalcreator 2.22.1//
METHOD:REQUEST
X-WR-TIMEZONE:Europe/Athens
BEGIN:VEVENT
UID:https://thessaloniki.kinimatorama.net/event/163698
DTSTAMP:20240314T170000Z
DESCRIPTION:περισσότερες πληροφορίες: https://thessaloniki.kinimatorama.net
 /event/163698 
DTSTART:20240314T170000Z
DTEND:20240314T180000Z
GEO:+37.969017;+23.780422
LOCATION:Ζωγράφου\, \nΑναρχικό Στέκι Φιλοσοφικής \nαίθουσα 819\, 8ος όροφος
  \nΠανεπιστημιούπολη Ζωγράφου
SUMMARY:(Αναβολή) Εκδήλωση – παρουσίαση μπροσούρας
URL:https://thessaloniki.kinimatorama.net/event/163698
END:VEVENT
END:VCALENDAR
